BEGIN:VCALENDAR
VERSION:2.0
PRODID:-//bz.nuernberg.de//NONSGML kigkonsult.se iCalcreator 2.41.92//
CALSCALE:GREGORIAN
METHOD:PUBLISH
UID:34393931-3131-4432-b138-633939303334
X-WR-TIMEZONE:Europe/Berlin
BEGIN:VTIMEZONE
TZID:Europe/Berlin
TZUNTIL:20280326T010000Z
BEGIN:STANDARD
TZNAME:CET
DTSTART:20251026T030000
TZOFFSETFROM:+0200
TZOFFSETTO:+0100
RDATE:20261025T030000
RDATE:20271031T030000
END:STANDARD
BEGIN:DAYLIGHT
TZNAME:CEST
DTSTART:20260329T020000
TZOFFSETFROM:+0100
TZOFFSETTO:+0200
RDATE:20270328T020000
END:DAYLIGHT
END:VTIMEZONE
BEGIN:VEVENT
UID:39333634-3164-4633-a338-643434316330
DTSTAMP:20260426T012448Z
CATEGORIES:Bildungszentrum
DESCRIPTION:Dozenten: Georgina Goldschmidt
DTSTART;TZID=Europe/Berlin:20260609T180000
DTEND;TZID=Europe/Berlin:20260609T193000
LOCATION:Raum: 3.21 - Zeichenraum - Bildungszentrum - Seminargebäude - Gewe
 rbemuseumsplatz 2 - Nürnberg
SUMMARY:Ungarn mit allen Sinnen – Sprache\, Küche\, Budapest und Balaton en
 tdecken – ohne Vorkenntnisse (92605)
END:VEVENT
BEGIN:VEVENT
UID:36363261-6464-4931-b863-383062626131
DTSTAMP:20260426T012448Z
CATEGORIES:Bildungszentrum
DESCRIPTION:Dozenten: Georgina Goldschmidt
DTSTART;TZID=Europe/Berlin:20260616T180000
DTEND;TZID=Europe/Berlin:20260616T193000
LOCATION:Raum: 3.16 - Seminarraum - Bildungszentrum - Seminargebäude - Gewe
 rbemuseumsplatz 2 - Nürnberg
SUMMARY:Ungarn mit allen Sinnen – Sprache\, Küche\, Budapest und Balaton en
 tdecken – ohne Vorkenntnisse (92605)
END:VEVENT
BEGIN:VEVENT
UID:32363965-3363-4035-a138-326666326233
DTSTAMP:20260426T012448Z
CATEGORIES:Bildungszentrum
DESCRIPTION:Dozenten: Georgina Goldschmidt
DTSTART;TZID=Europe/Berlin:20260623T180000
DTEND;TZID=Europe/Berlin:20260623T193000
LOCATION:Raum: 3.16 - Seminarraum - Bildungszentrum - Seminargebäude - Gewe
 rbemuseumsplatz 2 - Nürnberg
SUMMARY:Ungarn mit allen Sinnen – Sprache\, Küche\, Budapest und Balaton en
 tdecken – ohne Vorkenntnisse (92605)
END:VEVENT
BEGIN:VEVENT
UID:33656137-3833-4732-b962-626664653734
DTSTAMP:20260426T012448Z
CATEGORIES:Bildungszentrum
DESCRIPTION:Dozenten: Georgina Goldschmidt
DTSTART;TZID=Europe/Berlin:20260630T180000
DTEND;TZID=Europe/Berlin:20260630T193000
LOCATION:Raum: 3.16 - Seminarraum - Bildungszentrum - Seminargebäude - Gewe
 rbemuseumsplatz 2 - Nürnberg
SUMMARY:Ungarn mit allen Sinnen – Sprache\, Küche\, Budapest und Balaton en
 tdecken – ohne Vorkenntnisse (92605)
END:VEVENT
BEGIN:VEVENT
UID:65363037-3265-4162-a564-626531343334
DTSTAMP:20260426T012448Z
CATEGORIES:Bildungszentrum
DESCRIPTION:Dozenten: Georgina Goldschmidt
DTSTART;TZID=Europe/Berlin:20260707T180000
DTEND;TZID=Europe/Berlin:20260707T193000
LOCATION:Raum: 3.16 - Seminarraum - Bildungszentrum - Seminargebäude - Gewe
 rbemuseumsplatz 2 - Nürnberg
SUMMARY:Ungarn mit allen Sinnen – Sprache\, Küche\, Budapest und Balaton en
 tdecken – ohne Vorkenntnisse (92605)
END:VEVENT
END:VCALENDAR
