BEGIN:VCALENDAR
VERSION:2.0
PRODID:-//bz.nuernberg.de//NONSGML kigkonsult.se iCalcreator 2.41.92//
CALSCALE:GREGORIAN
METHOD:PUBLISH
UID:31366231-6536-4532-a638-643265653035
X-WR-TIMEZONE:Europe/Berlin
BEGIN:VTIMEZONE
TZID:Europe/Berlin
TZUNTIL:20280326T010000Z
BEGIN:STANDARD
TZNAME:CET
DTSTART:20251026T030000
TZOFFSETFROM:+0200
TZOFFSETTO:+0100
RDATE:20261025T030000
RDATE:20271031T030000
END:STANDARD
BEGIN:DAYLIGHT
TZNAME:CEST
DTSTART:20260329T020000
TZOFFSETFROM:+0100
TZOFFSETTO:+0200
RDATE:20270328T020000
END:DAYLIGHT
END:VTIMEZONE
BEGIN:VEVENT
UID:61323430-3837-4332-b737-646363663362
DTSTAMP:20260424T031254Z
CATEGORIES:Bildungszentrum
DESCRIPTION:Dozenten: Rimma Skeini
DTSTART;TZID=Europe/Berlin:20260612T133000
DTEND;TZID=Europe/Berlin:20260612T150000
LOCATION:Raum: 1.02 - Seminarraum - südpunkt - Forum für Bildung und Kultur
  - Pillenreuther Straße 147 - Nürnberg
SUMMARY:Reise-Englisch: Sicher unterwegs mit dem Smartphone (82871)
END:VEVENT
BEGIN:VEVENT
UID:31323362-3038-4635-a662-326561393964
DTSTAMP:20260424T031254Z
CATEGORIES:Bildungszentrum
DESCRIPTION:Dozenten: Rimma Skeini
DTSTART;TZID=Europe/Berlin:20260626T133000
DTEND;TZID=Europe/Berlin:20260626T150000
LOCATION:Raum: 1.02 - Seminarraum - südpunkt - Forum für Bildung und Kultur
  - Pillenreuther Straße 147 - Nürnberg
SUMMARY:Reise-Englisch: Sicher unterwegs mit dem Smartphone (82871)
END:VEVENT
BEGIN:VEVENT
UID:65376263-3465-4065-b633-313638376563
DTSTAMP:20260424T031254Z
CATEGORIES:Bildungszentrum
DESCRIPTION:Dozenten: Rimma Skeini
DTSTART;TZID=Europe/Berlin:20260710T133000
DTEND;TZID=Europe/Berlin:20260710T150000
LOCATION:Raum: 1.02 - Seminarraum - südpunkt - Forum für Bildung und Kultur
  - Pillenreuther Straße 147 - Nürnberg
SUMMARY:Reise-Englisch: Sicher unterwegs mit dem Smartphone (82871)
END:VEVENT
BEGIN:VEVENT
UID:64653838-3335-4638-b661-623661653031
DTSTAMP:20260424T031254Z
CATEGORIES:Bildungszentrum
DESCRIPTION:Dozenten: Rimma Skeini
DTSTART;TZID=Europe/Berlin:20260717T133000
DTEND;TZID=Europe/Berlin:20260717T150000
LOCATION:Raum: 1.02 - Seminarraum - südpunkt - Forum für Bildung und Kultur
  - Pillenreuther Straße 147 - Nürnberg
SUMMARY:Reise-Englisch: Sicher unterwegs mit dem Smartphone (82871)
END:VEVENT
BEGIN:VEVENT
UID:37336134-6662-4837-a632-346434326563
DTSTAMP:20260424T031254Z
CATEGORIES:Bildungszentrum
DESCRIPTION:Dozenten: Rimma Skeini
DTSTART;TZID=Europe/Berlin:20260724T133000
DTEND;TZID=Europe/Berlin:20260724T150000
LOCATION:Raum: 1.02 - Seminarraum - südpunkt - Forum für Bildung und Kultur
  - Pillenreuther Straße 147 - Nürnberg
SUMMARY:Reise-Englisch: Sicher unterwegs mit dem Smartphone (82871)
END:VEVENT
BEGIN:VEVENT
UID:66663265-6161-4365-b834-393835666137
DTSTAMP:20260424T031254Z
CATEGORIES:Bildungszentrum
DESCRIPTION:Dozenten: Rimma Skeini
DTSTART;TZID=Europe/Berlin:20260731T133000
DTEND;TZID=Europe/Berlin:20260731T150000
LOCATION:Raum: 1.02 - Seminarraum - südpunkt - Forum für Bildung und Kultur
  - Pillenreuther Straße 147 - Nürnberg
SUMMARY:Reise-Englisch: Sicher unterwegs mit dem Smartphone (82871)
END:VEVENT
END:VCALENDAR
