BEGIN:VCALENDAR
VERSION:2.0
PRODID:-//bz.nuernberg.de//NONSGML kigkonsult.se iCalcreator 2.41.92//
CALSCALE:GREGORIAN
METHOD:PUBLISH
UID:62313133-3537-4230-b238-303565396236
X-WR-TIMEZONE:Europe/Berlin
BEGIN:VTIMEZONE
TZID:Europe/Berlin
TZUNTIL:20280326T010000Z
BEGIN:STANDARD
TZNAME:CET
DTSTART:20251026T030000
TZOFFSETFROM:+0200
TZOFFSETTO:+0100
RDATE:20261025T030000
RDATE:20271031T030000
END:STANDARD
BEGIN:DAYLIGHT
TZNAME:CEST
DTSTART:20260329T020000
TZOFFSETFROM:+0100
TZOFFSETTO:+0200
RDATE:20270328T020000
END:DAYLIGHT
END:VTIMEZONE
BEGIN:VEVENT
UID:33336562-6333-4563-b262-656366346232
DTSTAMP:20260423T133536Z
CATEGORIES:Bildungszentrum
DESCRIPTION:Dozenten: Nicoletta De Rossi
DTSTART;TZID=Europe/Berlin:20260728T100000
DTEND;TZID=Europe/Berlin:20260728T113000
LOCATION:Raum: 3.03 - Seminarraum - Bildungszentrum - Seminargebäude - Gewe
 rbemuseumsplatz 2 - Nürnberg
SUMMARY:Italienisch für den Urlaub ohne Vorkenntnisse am Vormittag (85130)
END:VEVENT
BEGIN:VEVENT
UID:35383835-6262-4362-b439-323331633865
DTSTAMP:20260423T133536Z
CATEGORIES:Bildungszentrum
DESCRIPTION:Dozenten: Nicoletta De Rossi
DTSTART;TZID=Europe/Berlin:20260730T100000
DTEND;TZID=Europe/Berlin:20260730T113000
LOCATION:Raum: 3.03 - Seminarraum - Bildungszentrum - Seminargebäude - Gewe
 rbemuseumsplatz 2 - Nürnberg
SUMMARY:Italienisch für den Urlaub ohne Vorkenntnisse am Vormittag (85130)
END:VEVENT
BEGIN:VEVENT
UID:61343963-3563-4535-b037-373333633236
DTSTAMP:20260423T133536Z
CATEGORIES:Bildungszentrum
DESCRIPTION:Dozenten: Nicoletta De Rossi
DTSTART;TZID=Europe/Berlin:20260804T100000
DTEND;TZID=Europe/Berlin:20260804T113000
LOCATION:Raum: 3.03 - Seminarraum - Bildungszentrum - Seminargebäude - Gewe
 rbemuseumsplatz 2 - Nürnberg
SUMMARY:Italienisch für den Urlaub ohne Vorkenntnisse am Vormittag (85130)
END:VEVENT
BEGIN:VEVENT
UID:63373362-3061-4534-b361-303766323239
DTSTAMP:20260423T133536Z
CATEGORIES:Bildungszentrum
DESCRIPTION:Dozenten: Nicoletta De Rossi
DTSTART;TZID=Europe/Berlin:20260806T100000
DTEND;TZID=Europe/Berlin:20260806T113000
LOCATION:Raum: 3.03 - Seminarraum - Bildungszentrum - Seminargebäude - Gewe
 rbemuseumsplatz 2 - Nürnberg
SUMMARY:Italienisch für den Urlaub ohne Vorkenntnisse am Vormittag (85130)
END:VEVENT
BEGIN:VEVENT
UID:66323136-6432-4330-b562-346638643430
DTSTAMP:20260423T133536Z
CATEGORIES:Bildungszentrum
DESCRIPTION:Dozenten: Nicoletta De Rossi
DTSTART;TZID=Europe/Berlin:20260811T100000
DTEND;TZID=Europe/Berlin:20260811T113000
LOCATION:Raum: 3.03 - Seminarraum - Bildungszentrum - Seminargebäude - Gewe
 rbemuseumsplatz 2 - Nürnberg
SUMMARY:Italienisch für den Urlaub ohne Vorkenntnisse am Vormittag (85130)
END:VEVENT
BEGIN:VEVENT
UID:37333966-3332-4662-b333-356439336633
DTSTAMP:20260423T133536Z
CATEGORIES:Bildungszentrum
DESCRIPTION:Dozenten: Nicoletta De Rossi
DTSTART;TZID=Europe/Berlin:20260813T100000
DTEND;TZID=Europe/Berlin:20260813T113000
LOCATION:Raum: 3.03 - Seminarraum - Bildungszentrum - Seminargebäude - Gewe
 rbemuseumsplatz 2 - Nürnberg
SUMMARY:Italienisch für den Urlaub ohne Vorkenntnisse am Vormittag (85130)
END:VEVENT
BEGIN:VEVENT
UID:38353633-6139-4765-a134-336239663439
DTSTAMP:20260423T133536Z
CATEGORIES:Bildungszentrum
DESCRIPTION:Dozenten: Nicoletta De Rossi
DTSTART;TZID=Europe/Berlin:20260818T100000
DTEND;TZID=Europe/Berlin:20260818T113000
LOCATION:Raum: 3.03 - Seminarraum - Bildungszentrum - Seminargebäude - Gewe
 rbemuseumsplatz 2 - Nürnberg
SUMMARY:Italienisch für den Urlaub ohne Vorkenntnisse am Vormittag (85130)
END:VEVENT
BEGIN:VEVENT
UID:34393766-3038-4937-b265-613036343766
DTSTAMP:20260423T133536Z
CATEGORIES:Bildungszentrum
DESCRIPTION:Dozenten: Nicoletta De Rossi
DTSTART;TZID=Europe/Berlin:20260820T100000
DTEND;TZID=Europe/Berlin:20260820T113000
LOCATION:Raum: 3.03 - Seminarraum - Bildungszentrum - Seminargebäude - Gewe
 rbemuseumsplatz 2 - Nürnberg
SUMMARY:Italienisch für den Urlaub ohne Vorkenntnisse am Vormittag (85130)
END:VEVENT
END:VCALENDAR
