BEGIN:VCALENDAR
VERSION:2.0
PRODID:-//bz.nuernberg.de//NONSGML kigkonsult.se iCalcreator 2.41.92//
CALSCALE:GREGORIAN
METHOD:PUBLISH
UID:65326632-3038-4666-b033-383831633639
X-WR-TIMEZONE:Europe/Berlin
BEGIN:VTIMEZONE
TZID:Europe/Berlin
TZUNTIL:20280326T010000Z
BEGIN:STANDARD
TZNAME:CET
DTSTART:20251026T030000
TZOFFSETFROM:+0200
TZOFFSETTO:+0100
RDATE:20261025T030000
RDATE:20271031T030000
END:STANDARD
BEGIN:DAYLIGHT
TZNAME:CEST
DTSTART:20260329T020000
TZOFFSETFROM:+0100
TZOFFSETTO:+0200
RDATE:20270328T020000
END:DAYLIGHT
END:VTIMEZONE
BEGIN:VEVENT
UID:38353030-6366-4366-b935-666433653939
DTSTAMP:20260423T134226Z
CATEGORIES:Bildungszentrum
DESCRIPTION:Dozenten: Sabine Frenzel
DTSTART;TZID=Europe/Berlin:20260526T180000
DTEND;TZID=Europe/Berlin:20260526T210000
LOCATION:Raum: 1.01 - Seminarraum - südpunkt - Forum für Bildung und Kultur
  - Pillenreuther Straße 147 - Nürnberg
SUMMARY:Italienisch für den Urlaub A1 mit geringen Vorkenntnissen in den Pf
 ingstferien (85281)
END:VEVENT
BEGIN:VEVENT
UID:65383461-6632-4539-a431-366435366430
DTSTAMP:20260423T134226Z
CATEGORIES:Bildungszentrum
DESCRIPTION:Dozenten: Sabine Frenzel
DTSTART;TZID=Europe/Berlin:20260527T180000
DTEND;TZID=Europe/Berlin:20260527T210000
LOCATION:Raum: 1.01 - Seminarraum - südpunkt - Forum für Bildung und Kultur
  - Pillenreuther Straße 147 - Nürnberg
SUMMARY:Italienisch für den Urlaub A1 mit geringen Vorkenntnissen in den Pf
 ingstferien (85281)
END:VEVENT
BEGIN:VEVENT
UID:63633034-3732-4734-b063-333835376662
DTSTAMP:20260423T134226Z
CATEGORIES:Bildungszentrum
DESCRIPTION:Dozenten: Sabine Frenzel
DTSTART;TZID=Europe/Berlin:20260528T180000
DTEND;TZID=Europe/Berlin:20260528T210000
LOCATION:Raum: 1.01 - Seminarraum - südpunkt - Forum für Bildung und Kultur
  - Pillenreuther Straße 147 - Nürnberg
SUMMARY:Italienisch für den Urlaub A1 mit geringen Vorkenntnissen in den Pf
 ingstferien (85281)
END:VEVENT
BEGIN:VEVENT
UID:63623931-3037-4630-a434-356264336637
DTSTAMP:20260423T134226Z
CATEGORIES:Bildungszentrum
DESCRIPTION:Dozenten: Sabine Frenzel
DTSTART;TZID=Europe/Berlin:20260529T180000
DTEND;TZID=Europe/Berlin:20260529T210000
LOCATION:Raum: 1.01 - Seminarraum - südpunkt - Forum für Bildung und Kultur
  - Pillenreuther Straße 147 - Nürnberg
SUMMARY:Italienisch für den Urlaub A1 mit geringen Vorkenntnissen in den Pf
 ingstferien (85281)
END:VEVENT
END:VCALENDAR
