BEGIN:VCALENDAR
VERSION:2.0
PRODID:-//bz.nuernberg.de//NONSGML kigkonsult.se iCalcreator 2.41.92//
CALSCALE:GREGORIAN
METHOD:PUBLISH
UID:66326537-3635-4136-a433-333537326431
X-WR-TIMEZONE:Europe/Berlin
BEGIN:VTIMEZONE
TZID:Europe/Berlin
TZUNTIL:20280326T010000Z
BEGIN:STANDARD
TZNAME:CET
DTSTART:20251026T030000
TZOFFSETFROM:+0200
TZOFFSETTO:+0100
RDATE:20261025T030000
RDATE:20271031T030000
END:STANDARD
BEGIN:DAYLIGHT
TZNAME:CEST
DTSTART:20260329T020000
TZOFFSETFROM:+0100
TZOFFSETTO:+0200
RDATE:20270328T020000
END:DAYLIGHT
END:VTIMEZONE
BEGIN:VEVENT
UID:62653531-3432-4637-b333-623133393730
DTSTAMP:20260423T175129Z
CATEGORIES:Bildungszentrum
DESCRIPTION:Dozenten: Jin Zhang
DTSTART;TZID=Europe/Berlin:20260727T180000
DTEND;TZID=Europe/Berlin:20260727T193000
LOCATION:Raum: 3.16 - Seminarraum - Bildungszentrum - Seminargebäude - Gewe
 rbemuseumsplatz 2 - Nürnberg
SUMMARY:Chinesisch auf die Schnelle - Das Wichtigste für Ihren Urlaub (8860
 2)
END:VEVENT
BEGIN:VEVENT
UID:61653962-3233-4337-b839-373338623332
DTSTAMP:20260423T175129Z
CATEGORIES:Bildungszentrum
DESCRIPTION:Dozenten: Jin Zhang
DTSTART;TZID=Europe/Berlin:20260728T180000
DTEND;TZID=Europe/Berlin:20260728T193000
LOCATION:Raum: 3.16 - Seminarraum - Bildungszentrum - Seminargebäude - Gewe
 rbemuseumsplatz 2 - Nürnberg
SUMMARY:Chinesisch auf die Schnelle - Das Wichtigste für Ihren Urlaub (8860
 2)
END:VEVENT
BEGIN:VEVENT
UID:36363530-6630-4864-b834-356332313237
DTSTAMP:20260423T175129Z
CATEGORIES:Bildungszentrum
DESCRIPTION:Dozenten: Jin Zhang
DTSTART;TZID=Europe/Berlin:20260729T180000
DTEND;TZID=Europe/Berlin:20260729T193000
LOCATION:Raum: 3.16 - Seminarraum - Bildungszentrum - Seminargebäude - Gewe
 rbemuseumsplatz 2 - Nürnberg
SUMMARY:Chinesisch auf die Schnelle - Das Wichtigste für Ihren Urlaub (8860
 2)
END:VEVENT
BEGIN:VEVENT
UID:37646565-3138-4463-b832-643266343733
DTSTAMP:20260423T175129Z
CATEGORIES:Bildungszentrum
DESCRIPTION:Dozenten: Jin Zhang
DTSTART;TZID=Europe/Berlin:20260730T180000
DTEND;TZID=Europe/Berlin:20260730T193000
LOCATION:Raum: 3.16 - Seminarraum - Bildungszentrum - Seminargebäude - Gewe
 rbemuseumsplatz 2 - Nürnberg
SUMMARY:Chinesisch auf die Schnelle - Das Wichtigste für Ihren Urlaub (8860
 2)
END:VEVENT
BEGIN:VEVENT
UID:62303333-3732-4935-a334-613734326665
DTSTAMP:20260423T175129Z
CATEGORIES:Bildungszentrum
DESCRIPTION:Dozenten: Jin Zhang
DTSTART;TZID=Europe/Berlin:20260731T180000
DTEND;TZID=Europe/Berlin:20260731T193000
LOCATION:Raum: 1.03 - Küche - südpunkt - Forum für Bildung und Kultur - Pil
 lenreuther Straße 147 - Nürnberg
SUMMARY:Chinesisch auf die Schnelle - Das Wichtigste für Ihren Urlaub (8860
 2)
END:VEVENT
END:VCALENDAR
