BEGIN:VCALENDAR
VERSION:2.0
PRODID:-//bz.nuernberg.de//NONSGML kigkonsult.se iCalcreator 2.41.92//
CALSCALE:GREGORIAN
METHOD:PUBLISH
UID:37653139-3962-4331-b464-386531376137
X-WR-TIMEZONE:Europe/Berlin
BEGIN:VTIMEZONE
TZID:Europe/Berlin
TZUNTIL:20281029T010000Z
BEGIN:STANDARD
TZNAME:CET
DTSTART:20261025T030000
TZOFFSETFROM:+0200
TZOFFSETTO:+0100
RDATE:20271031T030000
END:STANDARD
BEGIN:DAYLIGHT
TZNAME:CEST
DTSTART:20260329T020000
TZOFFSETFROM:+0100
TZOFFSETTO:+0200
RDATE:20270328T020000
RDATE:20280326T020000
END:DAYLIGHT
END:VTIMEZONE
BEGIN:VEVENT
UID:32363530-3164-4636-a132-393536623437
DTSTAMP:20260423T191654Z
CATEGORIES:Bildungszentrum
DESCRIPTION:
DTSTART;TZID=Europe/Berlin:20261121T080000
DTEND;TZID=Europe/Berlin:20261121T180000
LOCATION:Raum: E.14 - Fabersaal - Bildungszentrum - Seminargebäude - Gewerb
 emuseumsplatz 2 - Nürnberg\nRaum: E.21 - Seminarraum - Bildungszentrum - S
 eminargebäude - Gewerbemuseumsplatz 2 - Nürnberg\nRaum: E.06 - Seminarraum
  - Bildungszentrum - Seminargebäude - Gewerbemuseumsplatz 2 - Nürnberg
SUMMARY:B1 Preliminary Exam paper-based (PET) (82708)
END:VEVENT
END:VCALENDAR
