BEGIN:VCALENDAR
VERSION:2.0
PRODID:-//bz.nuernberg.de//NONSGML kigkonsult.se iCalcreator 2.41.92//
CALSCALE:GREGORIAN
METHOD:PUBLISH
UID:33656237-3963-4738-b133-636262336163
X-WR-TIMEZONE:Europe/Berlin
BEGIN:VTIMEZONE
TZID:Europe/Berlin
TZUNTIL:20280326T010000Z
BEGIN:STANDARD
TZNAME:CET
DTSTART:20251026T030000
TZOFFSETFROM:+0200
TZOFFSETTO:+0100
RDATE:20261025T030000
RDATE:20271031T030000
END:STANDARD
BEGIN:DAYLIGHT
TZNAME:CEST
DTSTART:20260329T020000
TZOFFSETFROM:+0100
TZOFFSETTO:+0200
RDATE:20270328T020000
END:DAYLIGHT
END:VTIMEZONE
BEGIN:VEVENT
UID:61643763-3739-4435-a666-396631663735
DTSTAMP:20260425T171517Z
CATEGORIES:Bildungszentrum
DESCRIPTION:Dozenten: Rimma Skeini
DTSTART;TZID=Europe/Berlin:20260613T114500
DTEND;TZID=Europe/Berlin:20260613T131500
LOCATION:Raum: E.05 - Seminarraum - Bildungszentrum - Seminargebäude - Gewe
 rbemuseumsplatz 2 - Nürnberg
SUMMARY:App und Los! Endlich mit Menschen auf Englisch sprechen A1 (81247)
END:VEVENT
BEGIN:VEVENT
UID:33633532-3966-4262-a461-663834323333
DTSTAMP:20260425T171517Z
CATEGORIES:Bildungszentrum
DESCRIPTION:Dozenten: Rimma Skeini
DTSTART;TZID=Europe/Berlin:20260627T114500
DTEND;TZID=Europe/Berlin:20260627T131500
LOCATION:Raum: E.05 - Seminarraum - Bildungszentrum - Seminargebäude - Gewe
 rbemuseumsplatz 2 - Nürnberg
SUMMARY:App und Los! Endlich mit Menschen auf Englisch sprechen A1 (81247)
END:VEVENT
BEGIN:VEVENT
UID:35313035-3436-4561-b433-303234623631
DTSTAMP:20260425T171517Z
CATEGORIES:Bildungszentrum
DESCRIPTION:Dozenten: Rimma Skeini
DTSTART;TZID=Europe/Berlin:20260711T114500
DTEND;TZID=Europe/Berlin:20260711T131500
LOCATION:Raum: E.05 - Seminarraum - Bildungszentrum - Seminargebäude - Gewe
 rbemuseumsplatz 2 - Nürnberg
SUMMARY:App und Los! Endlich mit Menschen auf Englisch sprechen A1 (81247)
END:VEVENT
BEGIN:VEVENT
UID:36303733-6638-4139-a662-376532643164
DTSTAMP:20260425T171517Z
CATEGORIES:Bildungszentrum
DESCRIPTION:Dozenten: Rimma Skeini
DTSTART;TZID=Europe/Berlin:20260725T114500
DTEND;TZID=Europe/Berlin:20260725T131500
LOCATION:Raum: E.05 - Seminarraum - Bildungszentrum - Seminargebäude - Gewe
 rbemuseumsplatz 2 - Nürnberg
SUMMARY:App und Los! Endlich mit Menschen auf Englisch sprechen A1 (81247)
END:VEVENT
END:VCALENDAR
