BEGIN:VCALENDAR
VERSION:2.0
PRODID:-//bz.nuernberg.de//NONSGML kigkonsult.se iCalcreator 2.41.92//
CALSCALE:GREGORIAN
METHOD:PUBLISH
UID:32383734-3731-4237-b736-376536333661
X-WR-TIMEZONE:Europe/Berlin
BEGIN:VTIMEZONE
TZID:Europe/Berlin
TZUNTIL:20280326T010000Z
BEGIN:STANDARD
TZNAME:CET
DTSTART:20251026T030000
TZOFFSETFROM:+0200
TZOFFSETTO:+0100
RDATE:20261025T030000
RDATE:20271031T030000
END:STANDARD
BEGIN:DAYLIGHT
TZNAME:CEST
DTSTART:20260329T020000
TZOFFSETFROM:+0100
TZOFFSETTO:+0200
RDATE:20270328T020000
END:DAYLIGHT
END:VTIMEZONE
BEGIN:VEVENT
UID:37323866-6166-4566-a365-613861383133
DTSTAMP:20260421T124206Z
CATEGORIES:Bildungszentrum
DESCRIPTION:
DTSTART;TZID=Europe/Berlin:20260510T180000
DTEND;TZID=Europe/Berlin:20260510T185000
LOCATION:
SUMMARY:The Dark Side of the Moon - Pink Floyd (03171)
END:VEVENT
END:VCALENDAR
