BEGIN:VCALENDAR
VERSION:2.0
PRODID:-//bz.nuernberg.de//NONSGML kigkonsult.se iCalcreator 2.41.92//
CALSCALE:GREGORIAN
METHOD:PUBLISH
UID:32393134-3662-4630-a433-613133623464
X-WR-TIMEZONE:Europe/Berlin
BEGIN:VTIMEZONE
TZID:Europe/Berlin
TZUNTIL:20280326T010000Z
BEGIN:STANDARD
TZNAME:CET
DTSTART:20251026T030000
TZOFFSETFROM:+0200
TZOFFSETTO:+0100
RDATE:20261025T030000
RDATE:20271031T030000
END:STANDARD
BEGIN:DAYLIGHT
TZNAME:CEST
DTSTART:20260329T020000
TZOFFSETFROM:+0100
TZOFFSETTO:+0200
RDATE:20270328T020000
END:DAYLIGHT
END:VTIMEZONE
BEGIN:VEVENT
UID:37633234-3631-4265-b438-363761396538
DTSTAMP:20260421T063508Z
CATEGORIES:Bildungszentrum
DESCRIPTION:
DTSTART;TZID=Europe/Berlin:20260528T163000
DTEND;TZID=Europe/Berlin:20260528T172000
LOCATION:
SUMMARY:Dinosaurier und das Abenteuer des Fliegens (03191)
END:VEVENT
END:VCALENDAR
