BEGIN:VCALENDAR
VERSION:2.0
PRODID:-//bz.nuernberg.de//NONSGML kigkonsult.se iCalcreator 2.41.92//
CALSCALE:GREGORIAN
METHOD:PUBLISH
UID:63363463-6333-4434-b336-376433346130
X-WR-TIMEZONE:Europe/Berlin
BEGIN:VTIMEZONE
TZID:Europe/Berlin
TZUNTIL:20280326T010000Z
BEGIN:STANDARD
TZNAME:CET
DTSTART:20251026T030000
TZOFFSETFROM:+0200
TZOFFSETTO:+0100
RDATE:20261025T030000
RDATE:20271031T030000
END:STANDARD
BEGIN:DAYLIGHT
TZNAME:CEST
DTSTART:20260329T020000
TZOFFSETFROM:+0100
TZOFFSETTO:+0200
RDATE:20270328T020000
END:DAYLIGHT
END:VTIMEZONE
BEGIN:VEVENT
UID:38363130-3936-4535-b538-663264383930
DTSTAMP:20260423T143132Z
CATEGORIES:Bildungszentrum
DESCRIPTION:
DTSTART;TZID=Europe/Berlin:20260527T163000
DTEND;TZID=Europe/Berlin:20260527T171500
LOCATION:
SUMMARY:Die Apollo-Missionen zum Mond - Capcom Go!  (03189)
END:VEVENT
END:VCALENDAR
