BEGIN:VCALENDAR
VERSION:2.0
PRODID:-//bz.nuernberg.de//NONSGML kigkonsult.se iCalcreator 2.41.92//
CALSCALE:GREGORIAN
METHOD:PUBLISH
UID:35353939-6263-4865-b637-666165383039
X-WR-TIMEZONE:Europe/Berlin
BEGIN:VTIMEZONE
TZID:Europe/Berlin
TZUNTIL:20280326T010000Z
BEGIN:STANDARD
TZNAME:CET
DTSTART:20251026T030000
TZOFFSETFROM:+0200
TZOFFSETTO:+0100
RDATE:20261025T030000
RDATE:20271031T030000
END:STANDARD
BEGIN:DAYLIGHT
TZNAME:CEST
DTSTART:20260329T020000
TZOFFSETFROM:+0100
TZOFFSETTO:+0200
RDATE:20270328T020000
END:DAYLIGHT
END:VTIMEZONE
BEGIN:VEVENT
UID:38353131-6434-4239-b966-333331396435
DTSTAMP:20260423T140639Z
CATEGORIES:Bildungszentrum
DESCRIPTION:
DTSTART;TZID=Europe/Berlin:20260531T163000
DTEND;TZID=Europe/Berlin:20260531T171500
LOCATION:
SUMMARY:Aurora - Geheimnisvolle Lichter des Nordens  (03197)
END:VEVENT
END:VCALENDAR
