BEGIN:VCALENDAR
VERSION:2.0
PRODID:-//bz.nuernberg.de//NONSGML kigkonsult.se iCalcreator 2.41.92//
CALSCALE:GREGORIAN
METHOD:PUBLISH
UID:61393762-6335-4330-a665-396666396134
X-WR-TIMEZONE:Europe/Berlin
BEGIN:VTIMEZONE
TZID:Europe/Berlin
TZUNTIL:20280326T010000Z
BEGIN:STANDARD
TZNAME:CET
DTSTART:20251026T030000
TZOFFSETFROM:+0200
TZOFFSETTO:+0100
RDATE:20261025T030000
RDATE:20271031T030000
END:STANDARD
BEGIN:DAYLIGHT
TZNAME:CEST
DTSTART:20260329T020000
TZOFFSETFROM:+0100
TZOFFSETTO:+0200
RDATE:20270328T020000
END:DAYLIGHT
END:VTIMEZONE
BEGIN:VEVENT
UID:33373666-3138-4230-b432-323438343036
DTSTAMP:20260426T012304Z
CATEGORIES:Bildungszentrum
DESCRIPTION:Dozenten: Marion Haffner-Daum
DTSTART;TZID=Europe/Berlin:20260629T184500
DTEND;TZID=Europe/Berlin:20260629T194500
LOCATION:Raum: 17 - Bewegungsraum - Schulhaus-Großgründlach -  - Reutleser 
 Str. 6 - Nürnberg
SUMMARY:Wirbelsäulengymnastik (43208)
END:VEVENT
BEGIN:VEVENT
UID:37613062-6566-4661-b530-613633623363
DTSTAMP:20260426T012304Z
CATEGORIES:Bildungszentrum
DESCRIPTION:Dozenten: Marion Haffner-Daum
DTSTART;TZID=Europe/Berlin:20260706T184500
DTEND;TZID=Europe/Berlin:20260706T194500
LOCATION:Raum: 17 - Bewegungsraum - Schulhaus-Großgründlach -  - Reutleser 
 Str. 6 - Nürnberg
SUMMARY:Wirbelsäulengymnastik (43208)
END:VEVENT
BEGIN:VEVENT
UID:65333266-6236-4736-b561-363131323633
DTSTAMP:20260426T012304Z
CATEGORIES:Bildungszentrum
DESCRIPTION:Dozenten: Marion Haffner-Daum
DTSTART;TZID=Europe/Berlin:20260713T184500
DTEND;TZID=Europe/Berlin:20260713T194500
LOCATION:Raum: 17 - Bewegungsraum - Schulhaus-Großgründlach -  - Reutleser 
 Str. 6 - Nürnberg
SUMMARY:Wirbelsäulengymnastik (43208)
END:VEVENT
BEGIN:VEVENT
UID:31623765-3138-4238-b235-353934346164
DTSTAMP:20260426T012304Z
CATEGORIES:Bildungszentrum
DESCRIPTION:Dozenten: Marion Haffner-Daum
DTSTART;TZID=Europe/Berlin:20260720T184500
DTEND;TZID=Europe/Berlin:20260720T194500
LOCATION:Raum: 17 - Bewegungsraum - Schulhaus-Großgründlach -  - Reutleser 
 Str. 6 - Nürnberg
SUMMARY:Wirbelsäulengymnastik (43208)
END:VEVENT
END:VCALENDAR
