BEGIN:VCALENDAR
VERSION:2.0
PRODID:-//bz.nuernberg.de//NONSGML kigkonsult.se iCalcreator 2.41.92//
CALSCALE:GREGORIAN
METHOD:PUBLISH
UID:35346234-3365-4431-b434-333537303536
X-WR-TIMEZONE:Europe/Berlin
BEGIN:VTIMEZONE
TZID:Europe/Berlin
TZUNTIL:20280326T010000Z
BEGIN:STANDARD
TZNAME:CET
DTSTART:20251026T030000
TZOFFSETFROM:+0200
TZOFFSETTO:+0100
RDATE:20261025T030000
RDATE:20271031T030000
END:STANDARD
BEGIN:DAYLIGHT
TZNAME:CEST
DTSTART:20260329T020000
TZOFFSETFROM:+0100
TZOFFSETTO:+0200
RDATE:20270328T020000
END:DAYLIGHT
END:VTIMEZONE
BEGIN:VEVENT
UID:38653162-6462-4466-b134-366366386261
DTSTAMP:20260426T012304Z
CATEGORIES:Bildungszentrum
DESCRIPTION:Dozenten: Marion Haffner-Daum
DTSTART;TZID=Europe/Berlin:20260629T174500
DTEND;TZID=Europe/Berlin:20260629T184500
LOCATION:Raum: 17 - Bewegungsraum - Schulhaus-Großgründlach -  - Reutleser 
 Str. 6 - Nürnberg
SUMMARY:Wirbelsäulengymnastik (43206)
END:VEVENT
BEGIN:VEVENT
UID:30393863-3935-4130-b734-643034653630
DTSTAMP:20260426T012304Z
CATEGORIES:Bildungszentrum
DESCRIPTION:Dozenten: Marion Haffner-Daum
DTSTART;TZID=Europe/Berlin:20260706T174500
DTEND;TZID=Europe/Berlin:20260706T184500
LOCATION:Raum: 17 - Bewegungsraum - Schulhaus-Großgründlach -  - Reutleser 
 Str. 6 - Nürnberg
SUMMARY:Wirbelsäulengymnastik (43206)
END:VEVENT
BEGIN:VEVENT
UID:32373361-6637-4864-b266-386433323937
DTSTAMP:20260426T012304Z
CATEGORIES:Bildungszentrum
DESCRIPTION:Dozenten: Marion Haffner-Daum
DTSTART;TZID=Europe/Berlin:20260713T174500
DTEND;TZID=Europe/Berlin:20260713T184500
LOCATION:Raum: 17 - Bewegungsraum - Schulhaus-Großgründlach -  - Reutleser 
 Str. 6 - Nürnberg
SUMMARY:Wirbelsäulengymnastik (43206)
END:VEVENT
BEGIN:VEVENT
UID:63393665-6536-4630-a137-633363356266
DTSTAMP:20260426T012304Z
CATEGORIES:Bildungszentrum
DESCRIPTION:Dozenten: Marion Haffner-Daum
DTSTART;TZID=Europe/Berlin:20260720T174500
DTEND;TZID=Europe/Berlin:20260720T184500
LOCATION:Raum: 17 - Bewegungsraum - Schulhaus-Großgründlach -  - Reutleser 
 Str. 6 - Nürnberg
SUMMARY:Wirbelsäulengymnastik (43206)
END:VEVENT
END:VCALENDAR
