BEGIN:VCALENDAR
VERSION:2.0
PRODID:-//bz.nuernberg.de//NONSGML kigkonsult.se iCalcreator 2.41.92//
CALSCALE:GREGORIAN
METHOD:PUBLISH
UID:39653764-3836-4765-b634-343661616532
X-WR-TIMEZONE:Europe/Berlin
BEGIN:VTIMEZONE
TZID:Europe/Berlin
TZUNTIL:20281029T010000Z
BEGIN:STANDARD
TZNAME:CET
DTSTART:20251026T030000
TZOFFSETFROM:+0200
TZOFFSETTO:+0100
RDATE:20261025T030000
RDATE:20271031T030000
END:STANDARD
BEGIN:DAYLIGHT
TZNAME:CEST
DTSTART:20260329T020000
TZOFFSETFROM:+0100
TZOFFSETTO:+0200
RDATE:20270328T020000
RDATE:20280326T020000
END:DAYLIGHT
END:VTIMEZONE
BEGIN:VEVENT
UID:34656330-3735-4665-b734-313835353935
DTSTAMP:20260426T012318Z
CATEGORIES:Bildungszentrum
DESCRIPTION:Dozenten: Maria Papadopoulou
DTSTART;TZID=Europe/Berlin:20260624T093000
DTEND;TZID=Europe/Berlin:20260624T103000
LOCATION:
SUMMARY:Rückenfit-Rückenkräftigung (43318)
END:VEVENT
BEGIN:VEVENT
UID:36653164-3365-4438-b966-623562363439
DTSTAMP:20260426T012318Z
CATEGORIES:Bildungszentrum
DESCRIPTION:Dozenten: Maria Papadopoulou
DTSTART;TZID=Europe/Berlin:20260701T093000
DTEND;TZID=Europe/Berlin:20260701T103000
LOCATION:
SUMMARY:Rückenfit-Rückenkräftigung (43318)
END:VEVENT
BEGIN:VEVENT
UID:39623439-3039-4035-a233-393732373665
DTSTAMP:20260426T012318Z
CATEGORIES:Bildungszentrum
DESCRIPTION:Dozenten: Maria Papadopoulou
DTSTART;TZID=Europe/Berlin:20260708T093000
DTEND;TZID=Europe/Berlin:20260708T103000
LOCATION:
SUMMARY:Rückenfit-Rückenkräftigung (43318)
END:VEVENT
BEGIN:VEVENT
UID:35666433-3862-4635-a265-336532626137
DTSTAMP:20260426T012318Z
CATEGORIES:Bildungszentrum
DESCRIPTION:Dozenten: Maria Papadopoulou
DTSTART;TZID=Europe/Berlin:20260715T093000
DTEND;TZID=Europe/Berlin:20260715T103000
LOCATION:
SUMMARY:Rückenfit-Rückenkräftigung (43318)
END:VEVENT
BEGIN:VEVENT
UID:32336665-3665-4534-b339-646463656530
DTSTAMP:20260426T012318Z
CATEGORIES:Bildungszentrum
DESCRIPTION:Dozenten: Maria Papadopoulou
DTSTART;TZID=Europe/Berlin:20260916T093000
DTEND;TZID=Europe/Berlin:20260916T103000
LOCATION:
SUMMARY:Rückenfit-Rückenkräftigung (43318)
END:VEVENT
BEGIN:VEVENT
UID:64383666-3636-4466-b333-656638613863
DTSTAMP:20260426T012318Z
CATEGORIES:Bildungszentrum
DESCRIPTION:Dozenten: Maria Papadopoulou
DTSTART;TZID=Europe/Berlin:20260923T093000
DTEND;TZID=Europe/Berlin:20260923T103000
LOCATION:Raum: 1.15 - Bewegungsraum - südpunkt - Forum für Bildung und Kult
 ur - Pillenreuther Straße 147 - Nürnberg
SUMMARY:Rückenfit-Rückenkräftigung (43318)
END:VEVENT
BEGIN:VEVENT
UID:30616136-3663-4130-a331-336164333761
DTSTAMP:20260426T012318Z
CATEGORIES:Bildungszentrum
DESCRIPTION:Dozenten: Maria Papadopoulou
DTSTART;TZID=Europe/Berlin:20260930T093000
DTEND;TZID=Europe/Berlin:20260930T103000
LOCATION:Raum: 1.15 - Bewegungsraum - südpunkt - Forum für Bildung und Kult
 ur - Pillenreuther Straße 147 - Nürnberg
SUMMARY:Rückenfit-Rückenkräftigung (43318)
END:VEVENT
BEGIN:VEVENT
UID:34306238-3763-4531-b435-616433653562
DTSTAMP:20260426T012318Z
CATEGORIES:Bildungszentrum
DESCRIPTION:Dozenten: Maria Papadopoulou
DTSTART;TZID=Europe/Berlin:20261007T093000
DTEND;TZID=Europe/Berlin:20261007T103000
LOCATION:Raum: 1.15 - Bewegungsraum - südpunkt - Forum für Bildung und Kult
 ur - Pillenreuther Straße 147 - Nürnberg
SUMMARY:Rückenfit-Rückenkräftigung (43318)
END:VEVENT
END:VCALENDAR
