BEGIN:VCALENDAR
VERSION:2.0
PRODID:-//bz.nuernberg.de//NONSGML kigkonsult.se iCalcreator 2.41.92//
CALSCALE:GREGORIAN
METHOD:PUBLISH
UID:38326339-6630-4136-b330-643031643963
X-WR-TIMEZONE:Europe/Berlin
BEGIN:VTIMEZONE
TZID:Europe/Berlin
TZUNTIL:20280326T010000Z
BEGIN:STANDARD
TZNAME:CET
DTSTART:20251026T030000
TZOFFSETFROM:+0200
TZOFFSETTO:+0100
RDATE:20261025T030000
RDATE:20271031T030000
END:STANDARD
BEGIN:DAYLIGHT
TZNAME:CEST
DTSTART:20260329T020000
TZOFFSETFROM:+0100
TZOFFSETTO:+0200
RDATE:20270328T020000
END:DAYLIGHT
END:VTIMEZONE
BEGIN:VEVENT
UID:37623939-3830-4062-a634-363061356564
DTSTAMP:20260421T095718Z
CATEGORIES:Bildungszentrum
DESCRIPTION:Dozenten: Alejandra Stephany Ramirez Zambrano
DTSTART;TZID=Europe/Berlin:20260801T170000
DTEND;TZID=Europe/Berlin:20260801T183000
LOCATION:Raum: g.01 - Grünes Klassenzimmer - südpunkt - Forum für Bildung u
 nd Kultur - Pillenreuther Straße 147 - Nürnberg\nRaum: 1.03 - Küche - südp
 unkt - Forum für Bildung und Kultur - Pillenreuther Straße 147 - Nürnberg
SUMMARY:Mexikanische Aromen: Einfache Salsas entdecken (47450)
END:VEVENT
END:VCALENDAR
