BEGIN:VCALENDAR
VERSION:2.0
PRODID:-//bz.nuernberg.de//NONSGML kigkonsult.se iCalcreator 2.41.92//
CALSCALE:GREGORIAN
METHOD:PUBLISH
UID:63393638-3263-4665-b736-306665376236
X-WR-TIMEZONE:Europe/Berlin
BEGIN:VTIMEZONE
TZID:Europe/Berlin
TZUNTIL:20281029T010000Z
BEGIN:STANDARD
TZNAME:CET
DTSTART:20261025T030000
TZOFFSETFROM:+0200
TZOFFSETTO:+0100
RDATE:20271031T030000
END:STANDARD
BEGIN:DAYLIGHT
TZNAME:CEST
DTSTART:20260329T020000
TZOFFSETFROM:+0100
TZOFFSETTO:+0200
RDATE:20270328T020000
RDATE:20280326T020000
END:DAYLIGHT
END:VTIMEZONE
BEGIN:VEVENT
UID:63373433-3939-4938-b061-303863633963
DTSTAMP:20260426T012318Z
CATEGORIES:Bildungszentrum
DESCRIPTION:Dozenten: Markus Eber
DTSTART;TZID=Europe/Berlin:20261111T183000
DTEND;TZID=Europe/Berlin:20261111T203000
LOCATION:Raum: 4.24 - Orangerie - Bildungszentrum - Seminargebäude - Gewerb
 emuseumsplatz 2 - Nürnberg
SUMMARY:Zwischen Steppe und Seidenstraße (36604)
END:VEVENT
END:VCALENDAR
