BEGIN:VCALENDAR
VERSION:2.0
PRODID:-//bz.nuernberg.de//NONSGML kigkonsult.se iCalcreator 2.41.92//
CALSCALE:GREGORIAN
METHOD:PUBLISH
UID:37653833-6532-4466-b430-333033346138
X-WR-TIMEZONE:Europe/Berlin
BEGIN:VTIMEZONE
TZID:Europe/Berlin
TZUNTIL:20281029T010000Z
BEGIN:STANDARD
TZNAME:CET
DTSTART:20261025T030000
TZOFFSETFROM:+0200
TZOFFSETTO:+0100
RDATE:20271031T030000
END:STANDARD
BEGIN:DAYLIGHT
TZNAME:CEST
DTSTART:20260329T020000
TZOFFSETFROM:+0100
TZOFFSETTO:+0200
RDATE:20270328T020000
RDATE:20280326T020000
END:DAYLIGHT
END:VTIMEZONE
BEGIN:VEVENT
UID:32343234-3566-4164-a661-333364303765
DTSTAMP:20260423T064514Z
CATEGORIES:Bildungszentrum
DESCRIPTION:Dozenten: Horst Gillmeier
DTSTART;TZID=Europe/Berlin:20261117T180000
DTEND;TZID=Europe/Berlin:20261117T193000
LOCATION:Raum: 3.11 - Vortragssaal - Bildungszentrum - Seminargebäude - Gew
 erbemuseumsplatz 2 - Nürnberg
SUMMARY:Vortrag zur Geschichte der Feuerwehr Nürnberg (01030)
END:VEVENT
END:VCALENDAR
