BEGIN:VCALENDAR
VERSION:2.0
PRODID:-//bz.nuernberg.de//NONSGML kigkonsult.se iCalcreator 2.41.92//
CALSCALE:GREGORIAN
METHOD:PUBLISH
UID:33383265-3332-4434-a331-613864353063
X-WR-TIMEZONE:Europe/Berlin
BEGIN:VTIMEZONE
TZID:Europe/Berlin
TZUNTIL:20281029T010000Z
BEGIN:STANDARD
TZNAME:CET
DTSTART:20261025T030000
TZOFFSETFROM:+0200
TZOFFSETTO:+0100
RDATE:20271031T030000
END:STANDARD
BEGIN:DAYLIGHT
TZNAME:CEST
DTSTART:20260329T020000
TZOFFSETFROM:+0100
TZOFFSETTO:+0200
RDATE:20270328T020000
RDATE:20280326T020000
END:DAYLIGHT
END:VTIMEZONE
BEGIN:VEVENT
UID:61303736-3936-4334-b131-613966633035
DTSTAMP:20260423T064603Z
CATEGORIES:Bildungszentrum
DESCRIPTION:Dozenten: Hannelore Bayer
DTSTART;TZID=Europe/Berlin:20261105T150000
DTEND;TZID=Europe/Berlin:20261105T163000
LOCATION:Raum: 3.11 - Vortragssaal - Bildungszentrum - Seminargebäude - Gew
 erbemuseumsplatz 2 - Nürnberg
SUMMARY:Vortrag: Thanatopraxie - Einblicke in ein anspruchsvolles Handwerk 
 (01708)
END:VEVENT
END:VCALENDAR
