BEGIN:VCALENDAR
VERSION:2.0
PRODID:-//bz.nuernberg.de//NONSGML kigkonsult.se iCalcreator 2.41.92//
CALSCALE:GREGORIAN
METHOD:PUBLISH
UID:38623633-3038-4339-b338-396538323432
X-WR-TIMEZONE:Europe/Berlin
BEGIN:VTIMEZONE
TZID:Europe/Berlin
TZUNTIL:20281029T010000Z
BEGIN:STANDARD
TZNAME:CET
DTSTART:20251026T030000
TZOFFSETFROM:+0200
TZOFFSETTO:+0100
RDATE:20261025T030000
RDATE:20271031T030000
END:STANDARD
BEGIN:DAYLIGHT
TZNAME:CEST
DTSTART:20260329T020000
TZOFFSETFROM:+0100
TZOFFSETTO:+0200
RDATE:20270328T020000
RDATE:20280326T020000
END:DAYLIGHT
END:VTIMEZONE
BEGIN:VEVENT
UID:32633866-3834-4537-a166-663632346531
DTSTAMP:20260423T064509Z
CATEGORIES:Bildungszentrum
DESCRIPTION:Dozenten: Prof. Dr. Peter Bernhard
DTSTART;TZID=Europe/Berlin:20261003T143000
DTEND;TZID=Europe/Berlin:20261003T163000
LOCATION:
SUMMARY:Treppen der Altstadt (01304)
END:VEVENT
END:VCALENDAR
