BEGIN:VCALENDAR
VERSION:2.0
PRODID:-//bz.nuernberg.de//NONSGML kigkonsult.se iCalcreator 2.41.92//
CALSCALE:GREGORIAN
METHOD:PUBLISH
UID:33323937-6465-4232-a333-306666303332
X-WR-TIMEZONE:Europe/Berlin
BEGIN:VTIMEZONE
TZID:Europe/Berlin
TZUNTIL:20281029T010000Z
BEGIN:STANDARD
TZNAME:CET
DTSTART:20261025T030000
TZOFFSETFROM:+0200
TZOFFSETTO:+0100
RDATE:20271031T030000
END:STANDARD
BEGIN:DAYLIGHT
TZNAME:CEST
DTSTART:20260329T020000
TZOFFSETFROM:+0100
TZOFFSETTO:+0200
RDATE:20270328T020000
RDATE:20280326T020000
END:DAYLIGHT
END:VTIMEZONE
BEGIN:VEVENT
UID:61313561-3439-4437-b934-643936666535
DTSTAMP:20260426T012439Z
CATEGORIES:Bildungszentrum
DESCRIPTION:Dozenten: Susanne Grethlein
DTSTART;TZID=Europe/Berlin:20261029T170000
DTEND;TZID=Europe/Berlin:20261029T183000
LOCATION:Raum: 3.11 - Vortragssaal - Bildungszentrum - Seminargebäude - Gew
 erbemuseumsplatz 2 - Nürnberg
SUMMARY:Traditionen der Rauhnächte\, Räucherwerk und das 13-Wünsche-Ritual 
 (36500)
END:VEVENT
END:VCALENDAR
