BEGIN:VCALENDAR
VERSION:2.0
PRODID:-//bz.nuernberg.de//NONSGML kigkonsult.se iCalcreator 2.41.92//
CALSCALE:GREGORIAN
METHOD:PUBLISH
UID:33306332-3833-4235-b464-653561366439
X-WR-TIMEZONE:Europe/Berlin
BEGIN:VTIMEZONE
TZID:Europe/Berlin
TZUNTIL:20280326T010000Z
BEGIN:STANDARD
TZNAME:CET
DTSTART:20251026T030000
TZOFFSETFROM:+0200
TZOFFSETTO:+0100
RDATE:20261025T030000
RDATE:20271031T030000
END:STANDARD
BEGIN:DAYLIGHT
TZNAME:CEST
DTSTART:20260329T020000
TZOFFSETFROM:+0100
TZOFFSETTO:+0200
RDATE:20270328T020000
END:DAYLIGHT
END:VTIMEZONE
BEGIN:VEVENT
UID:63343935-3162-4534-a330-303531346234
DTSTAMP:20260423T064631Z
CATEGORIES:Bildungszentrum
DESCRIPTION:
DTSTART;TZID=Europe/Berlin:20260816T110000
DTEND;TZID=Europe/Berlin:20260816T130000
LOCATION:
SUMMARY:Stadtführung: Händlerinnen\, Pilgerinnen\, Widerstandskämpferinnen.
  Nürnbergs Frauen in sechs Jahrhunderten (01004)
END:VEVENT
END:VCALENDAR
