BEGIN:VCALENDAR
VERSION:2.0
PRODID:-//bz.nuernberg.de//NONSGML kigkonsult.se iCalcreator 2.41.92//
CALSCALE:GREGORIAN
METHOD:PUBLISH
UID:34343738-3565-4239-a638-613235363533
X-WR-TIMEZONE:Europe/Berlin
BEGIN:VTIMEZONE
TZID:Europe/Berlin
TZUNTIL:20281029T010000Z
BEGIN:STANDARD
TZNAME:CET
DTSTART:20251026T030000
TZOFFSETFROM:+0200
TZOFFSETTO:+0100
RDATE:20261025T030000
RDATE:20271031T030000
END:STANDARD
BEGIN:DAYLIGHT
TZNAME:CEST
DTSTART:20260329T020000
TZOFFSETFROM:+0100
TZOFFSETTO:+0200
RDATE:20270328T020000
RDATE:20280326T020000
END:DAYLIGHT
END:VTIMEZONE
BEGIN:VEVENT
UID:62323334-3230-4064-b435-303632636261
DTSTAMP:20260423T134429Z
CATEGORIES:Bildungszentrum
DESCRIPTION:Dozenten: Nadja Bennewitz
DTSTART;TZID=Europe/Berlin:20261024T140000
DTEND;TZID=Europe/Berlin:20261024T160000
LOCATION:
SUMMARY:Spuren der deutschen Kolonialgeschichte. (36120)
END:VEVENT
END:VCALENDAR
