BEGIN:VCALENDAR
VERSION:2.0
PRODID:-//bz.nuernberg.de//NONSGML kigkonsult.se iCalcreator 2.41.92//
CALSCALE:GREGORIAN
METHOD:PUBLISH
UID:64376634-3766-4039-a131-373639306366
X-WR-TIMEZONE:Europe/Berlin
BEGIN:VTIMEZONE
TZID:Europe/Berlin
TZUNTIL:20281029T010000Z
BEGIN:STANDARD
TZNAME:CET
DTSTART:20251026T030000
TZOFFSETFROM:+0200
TZOFFSETTO:+0100
RDATE:20261025T030000
RDATE:20271031T030000
END:STANDARD
BEGIN:DAYLIGHT
TZNAME:CEST
DTSTART:20260329T020000
TZOFFSETFROM:+0100
TZOFFSETTO:+0200
RDATE:20270328T020000
RDATE:20280326T020000
END:DAYLIGHT
END:VTIMEZONE
BEGIN:VEVENT
UID:36313765-6664-4664-b735-616662336662
DTSTAMP:20260423T050339Z
CATEGORIES:Bildungszentrum
DESCRIPTION:Dozenten: Martin Turner
DTSTART;TZID=Europe/Berlin:20261009T161500
DTEND;TZID=Europe/Berlin:20261009T174500
LOCATION:Raum: 3.02 - Seminarraum - Bildungszentrum - Seminargebäude - Gewe
 rbemuseumsplatz 2 - Nürnberg
SUMMARY:Raffael - Maler des Menschheitlichen (36014)
END:VEVENT
BEGIN:VEVENT
UID:38303161-3835-4862-a539-653532383262
DTSTAMP:20260423T050339Z
CATEGORIES:Bildungszentrum
DESCRIPTION:Dozenten: Martin Turner
DTSTART;TZID=Europe/Berlin:20261016T161500
DTEND;TZID=Europe/Berlin:20261016T174500
LOCATION:Raum: 3.02 - Seminarraum - Bildungszentrum - Seminargebäude - Gewe
 rbemuseumsplatz 2 - Nürnberg
SUMMARY:Raffael - Maler des Menschheitlichen (36014)
END:VEVENT
BEGIN:VEVENT
UID:34643464-3565-4761-b665-333137613064
DTSTAMP:20260423T050339Z
CATEGORIES:Bildungszentrum
DESCRIPTION:Dozenten: Martin Turner
DTSTART;TZID=Europe/Berlin:20261023T161500
DTEND;TZID=Europe/Berlin:20261023T174500
LOCATION:Raum: 3.02 - Seminarraum - Bildungszentrum - Seminargebäude - Gewe
 rbemuseumsplatz 2 - Nürnberg
SUMMARY:Raffael - Maler des Menschheitlichen (36014)
END:VEVENT
BEGIN:VEVENT
UID:38353331-6638-4563-b334-393365383735
DTSTAMP:20260423T050339Z
CATEGORIES:Bildungszentrum
DESCRIPTION:Dozenten: Martin Turner
DTSTART;TZID=Europe/Berlin:20261030T161500
DTEND;TZID=Europe/Berlin:20261030T174500
LOCATION:Raum: 3.02 - Seminarraum - Bildungszentrum - Seminargebäude - Gewe
 rbemuseumsplatz 2 - Nürnberg
SUMMARY:Raffael - Maler des Menschheitlichen (36014)
END:VEVENT
END:VCALENDAR
