BEGIN:VCALENDAR
VERSION:2.0
PRODID:-//bz.nuernberg.de//NONSGML kigkonsult.se iCalcreator 2.41.92//
CALSCALE:GREGORIAN
METHOD:PUBLISH
UID:62386661-6330-4362-b865-646631313665
X-WR-TIMEZONE:Europe/Berlin
BEGIN:VTIMEZONE
TZID:Europe/Berlin
TZUNTIL:20281029T010000Z
BEGIN:STANDARD
TZNAME:CET
DTSTART:20251026T030000
TZOFFSETFROM:+0200
TZOFFSETTO:+0100
RDATE:20261025T030000
RDATE:20271031T030000
END:STANDARD
BEGIN:DAYLIGHT
TZNAME:CEST
DTSTART:20260329T020000
TZOFFSETFROM:+0100
TZOFFSETTO:+0200
RDATE:20270328T020000
RDATE:20280326T020000
END:DAYLIGHT
END:VTIMEZONE
BEGIN:VEVENT
UID:33626333-3632-4938-b131-653038656662
DTSTAMP:20260423T151120Z
CATEGORIES:Bildungszentrum
DESCRIPTION:Dozenten: Marc Olivier Talabardon
DTSTART;TZID=Europe/Berlin:20261009T140000
DTEND;TZID=Europe/Berlin:20261009T153000
LOCATION:Raum: 3.23 - Gruppenraum - Bildungszentrum - Seminargebäude - Gewe
 rbemuseumsplatz 2 - Nürnberg
SUMMARY:Philosophie jetzt! (30012)
END:VEVENT
BEGIN:VEVENT
UID:35316561-6434-4564-a666-623837626538
DTSTAMP:20260423T151120Z
CATEGORIES:Bildungszentrum
DESCRIPTION:Dozenten: Marc Olivier Talabardon
DTSTART;TZID=Europe/Berlin:20261113T140000
DTEND;TZID=Europe/Berlin:20261113T153000
LOCATION:Raum: 3.23 - Gruppenraum - Bildungszentrum - Seminargebäude - Gewe
 rbemuseumsplatz 2 - Nürnberg
SUMMARY:Philosophie jetzt! (30012)
END:VEVENT
BEGIN:VEVENT
UID:37383438-3131-4732-b434-383535396533
DTSTAMP:20260423T151120Z
CATEGORIES:Bildungszentrum
DESCRIPTION:Dozenten: Marc Olivier Talabardon
DTSTART;TZID=Europe/Berlin:20261211T140000
DTEND;TZID=Europe/Berlin:20261211T153000
LOCATION:Raum: 3.23 - Gruppenraum - Bildungszentrum - Seminargebäude - Gewe
 rbemuseumsplatz 2 - Nürnberg
SUMMARY:Philosophie jetzt! (30012)
END:VEVENT
BEGIN:VEVENT
UID:34363235-6637-4166-b434-613733326338
DTSTAMP:20260423T151120Z
CATEGORIES:Bildungszentrum
DESCRIPTION:Dozenten: Marc Olivier Talabardon
DTSTART;TZID=Europe/Berlin:20270115T140000
DTEND;TZID=Europe/Berlin:20270115T153000
LOCATION:Raum: 3.23 - Gruppenraum - Bildungszentrum - Seminargebäude - Gewe
 rbemuseumsplatz 2 - Nürnberg
SUMMARY:Philosophie jetzt! (30012)
END:VEVENT
BEGIN:VEVENT
UID:61396331-3638-4135-a330-316531353566
DTSTAMP:20260423T151120Z
CATEGORIES:Bildungszentrum
DESCRIPTION:Dozenten: Marc Olivier Talabardon
DTSTART;TZID=Europe/Berlin:20270205T140000
DTEND;TZID=Europe/Berlin:20270205T153000
LOCATION:Raum: 3.23 - Gruppenraum - Bildungszentrum - Seminargebäude - Gewe
 rbemuseumsplatz 2 - Nürnberg
SUMMARY:Philosophie jetzt! (30012)
END:VEVENT
END:VCALENDAR
