BEGIN:VCALENDAR
VERSION:2.0
PRODID:-//bz.nuernberg.de//NONSGML kigkonsult.se iCalcreator 2.41.92//
CALSCALE:GREGORIAN
METHOD:PUBLISH
UID:35396533-3035-4132-b738-313232613134
X-WR-TIMEZONE:Europe/Berlin
BEGIN:VTIMEZONE
TZID:Europe/Berlin
TZUNTIL:20281029T010000Z
BEGIN:STANDARD
TZNAME:CET
DTSTART:20261025T030000
TZOFFSETFROM:+0200
TZOFFSETTO:+0100
RDATE:20271031T030000
END:STANDARD
BEGIN:DAYLIGHT
TZNAME:CEST
DTSTART:20260329T020000
TZOFFSETFROM:+0100
TZOFFSETTO:+0200
RDATE:20270328T020000
RDATE:20280326T020000
END:DAYLIGHT
END:VTIMEZONE
BEGIN:VEVENT
UID:37613730-6262-4238-b935-376436643535
DTSTAMP:20260423T064510Z
CATEGORIES:Bildungszentrum
DESCRIPTION:Dozenten: John P. Zeitler
DTSTART;TZID=Europe/Berlin:20261110T180000
DTEND;TZID=Europe/Berlin:20261110T193000
LOCATION:Raum: 3.11 - Vortragssaal - Bildungszentrum - Seminargebäude - Gew
 erbemuseumsplatz 2 - Nürnberg
SUMMARY:Nürnberg bevor es Nürnberg war  (01016)
END:VEVENT
END:VCALENDAR
