BEGIN:VCALENDAR
VERSION:2.0
PRODID:-//bz.nuernberg.de//NONSGML kigkonsult.se iCalcreator 2.41.92//
CALSCALE:GREGORIAN
METHOD:PUBLISH
UID:37353662-6465-4637-a639-633635366535
X-WR-TIMEZONE:Europe/Berlin
BEGIN:VTIMEZONE
TZID:Europe/Berlin
TZUNTIL:20281029T010000Z
BEGIN:STANDARD
TZNAME:CET
DTSTART:20251026T030000
TZOFFSETFROM:+0200
TZOFFSETTO:+0100
RDATE:20261025T030000
RDATE:20271031T030000
END:STANDARD
BEGIN:DAYLIGHT
TZNAME:CEST
DTSTART:20260329T020000
TZOFFSETFROM:+0100
TZOFFSETTO:+0200
RDATE:20270328T020000
RDATE:20280326T020000
END:DAYLIGHT
END:VTIMEZONE
BEGIN:VEVENT
UID:39643531-6633-4838-b032-313331633034
DTSTAMP:20260423T050339Z
CATEGORIES:Bildungszentrum
DESCRIPTION:Dozenten: Peter Stuckenberger
DTSTART;TZID=Europe/Berlin:20261005T180000
DTEND;TZID=Europe/Berlin:20261005T193000
LOCATION:Raum: E.05 - Seminarraum - Bildungszentrum - Seminargebäude - Gewe
 rbemuseumsplatz 2 - Nürnberg
SUMMARY:Kirchenbau in Zeiten des Umbruchs (36030)
END:VEVENT
END:VCALENDAR
