BEGIN:VCALENDAR
VERSION:2.0
PRODID:-//bz.nuernberg.de//NONSGML kigkonsult.se iCalcreator 2.41.92//
CALSCALE:GREGORIAN
METHOD:PUBLISH
UID:64643761-3866-4137-a366-373265643336
X-WR-TIMEZONE:Europe/Berlin
BEGIN:VTIMEZONE
TZID:Europe/Berlin
TZUNTIL:20281029T010000Z
BEGIN:STANDARD
TZNAME:CET
DTSTART:20261025T030000
TZOFFSETFROM:+0200
TZOFFSETTO:+0100
RDATE:20271031T030000
END:STANDARD
BEGIN:DAYLIGHT
TZNAME:CEST
DTSTART:20260329T020000
TZOFFSETFROM:+0100
TZOFFSETTO:+0200
RDATE:20270328T020000
RDATE:20280326T020000
END:DAYLIGHT
END:VTIMEZONE
BEGIN:VEVENT
UID:30376235-3532-4764-b330-633334373333
DTSTAMP:20260423T064515Z
CATEGORIES:Bildungszentrum
DESCRIPTION:Dozenten: Jan Beinßen
DTSTART;TZID=Europe/Berlin:20261120T170000
DTEND;TZID=Europe/Berlin:20261120T183000
LOCATION:
SUMMARY:Grusel hinter Burgmauern (01316)
END:VEVENT
END:VCALENDAR
