BEGIN:VCALENDAR
VERSION:2.0
PRODID:-//bz.nuernberg.de//NONSGML kigkonsult.se iCalcreator 2.41.92//
CALSCALE:GREGORIAN
METHOD:PUBLISH
UID:61303339-6361-4135-a636-303839663136
X-WR-TIMEZONE:Europe/Berlin
BEGIN:VTIMEZONE
TZID:Europe/Berlin
TZUNTIL:20281029T010000Z
BEGIN:STANDARD
TZNAME:CET
DTSTART:20251026T030000
TZOFFSETFROM:+0200
TZOFFSETTO:+0100
RDATE:20261025T030000
RDATE:20271031T030000
END:STANDARD
BEGIN:DAYLIGHT
TZNAME:CEST
DTSTART:20260329T020000
TZOFFSETFROM:+0100
TZOFFSETTO:+0200
RDATE:20270328T020000
RDATE:20280326T020000
END:DAYLIGHT
END:VTIMEZONE
BEGIN:VEVENT
UID:39626430-3562-4433-b231-326239356535
DTSTAMP:20260423T064516Z
CATEGORIES:Bildungszentrum
DESCRIPTION:Dozenten: Jan Beinßen
DTSTART;TZID=Europe/Berlin:20261023T153000
DTEND;TZID=Europe/Berlin:20261023T164500
LOCATION:
SUMMARY:Dürer Escape Krimi Tour (01308)
END:VEVENT
END:VCALENDAR
