BEGIN:VCALENDAR
VERSION:2.0
PRODID:-//bz.nuernberg.de//NONSGML kigkonsult.se iCalcreator 2.41.92//
CALSCALE:GREGORIAN
METHOD:PUBLISH
UID:35396464-3231-4638-a531-323831353635
X-WR-TIMEZONE:Europe/Berlin
BEGIN:VTIMEZONE
TZID:Europe/Berlin
TZUNTIL:20281029T010000Z
BEGIN:STANDARD
TZNAME:CET
DTSTART:20261025T030000
TZOFFSETFROM:+0200
TZOFFSETTO:+0100
RDATE:20271031T030000
END:STANDARD
BEGIN:DAYLIGHT
TZNAME:CEST
DTSTART:20260329T020000
TZOFFSETFROM:+0100
TZOFFSETTO:+0200
RDATE:20270328T020000
RDATE:20280326T020000
END:DAYLIGHT
END:VTIMEZONE
BEGIN:VEVENT
UID:31346639-3136-4933-b361-666262313830
DTSTAMP:20260420T181716Z
CATEGORIES:Bildungszentrum
DESCRIPTION:Dozenten: Jutta Jürgen
DTSTART;TZID=Europe/Berlin:20261128T090000
DTEND;TZID=Europe/Berlin:20261128T161500
LOCATION:
SUMMARY:Rhetorik Intensivtraining (58314)
END:VEVENT
BEGIN:VEVENT
UID:36643566-6161-4365-b138-353063366166
DTSTAMP:20260420T181716Z
CATEGORIES:Bildungszentrum
DESCRIPTION:Dozenten: Jutta Jürgen
DTSTART;TZID=Europe/Berlin:20261129T090000
DTEND;TZID=Europe/Berlin:20261129T161500
LOCATION:
SUMMARY:Rhetorik Intensivtraining (58314)
END:VEVENT
END:VCALENDAR
